BEGIN:VCALENDAR
VERSION:2.0
PRODID:-//Barrington Chinese Immersion Council - ECPv6.15.20//NONSGML v1.0//EN
CALSCALE:GREGORIAN
METHOD:PUBLISH
X-WR-CALNAME:Barrington Chinese Immersion Council
X-ORIGINAL-URL:https://www.bcic220.org
X-WR-CALDESC:Events for Barrington Chinese Immersion Council
REFRESH-INTERVAL;VALUE=DURATION:PT1H
X-Robots-Tag:noindex
X-PUBLISHED-TTL:PT1H
BEGIN:VTIMEZONE
TZID:America/Chicago
BEGIN:DAYLIGHT
TZOFFSETFROM:-0600
TZOFFSETTO:-0500
TZNAME:CDT
DTSTART:20250309T080000
END:DAYLIGHT
BEGIN:STANDARD
TZOFFSETFROM:-0500
TZOFFSETTO:-0600
TZNAME:CST
DTSTART:20251102T070000
END:STANDARD
BEGIN:DAYLIGHT
TZOFFSETFROM:-0600
TZOFFSETTO:-0500
TZNAME:CDT
DTSTART:20260308T080000
END:DAYLIGHT
BEGIN:STANDARD
TZOFFSETFROM:-0500
TZOFFSETTO:-0600
TZNAME:CST
DTSTART:20261101T070000
END:STANDARD
BEGIN:DAYLIGHT
TZOFFSETFROM:-0600
TZOFFSETTO:-0500
TZNAME:CDT
DTSTART:20270314T080000
END:DAYLIGHT
BEGIN:STANDARD
TZOFFSETFROM:-0500
TZOFFSETTO:-0600
TZNAME:CST
DTSTART:20271107T070000
END:STANDARD
END:VTIMEZONE
BEGIN:VEVENT
DTSTART;TZID=America/Chicago:20260430T190000
DTEND;TZID=America/Chicago:20260430T200000
DTSTAMP:20260422T230912
CREATED:20251116T232106Z
LAST-MODIFIED:20251117T001856Z
UID:9460-1777575600-1777579200@www.bcic220.org
SUMMARY:Future Career Exploration Panelist Application
DESCRIPTION:Do you utilize Mandarin language skills in your career? \nDo you work or collaborate with Chinese businesses and global organizations? \nDoes your career allow you to explore opportunities to live and work in China or other Mandarin-speaking nations? \n  \nIf you answered yes to any or all of these questions\, BCIC would be thrilled to follow up to consider having you as a panelist on a future Career Exploration Webinar. \n  \nThe event will be held virtually and is usually around 7 pm on a weekday. The date listed is just a place holder. We will work to schedule this around our panelists. If this upcoming date does not work\, we would warmly invite you to reschedule to present at a future career exploration.
URL:https://www.bcic220.org/event/future-career-exploration-panelist-application/
LOCATION:Virtual
ATTACH;FMTTYPE=image/png:https://www.bcic220.org/wp-content/uploads/2025/11/Screenshot-2025-11-16-at-6.14.22-PM-e1763338726197.png
ORGANIZER;CN="BCIC":MAILTO:bcic220@gmail.com
END:VEVENT
BEGIN:VEVENT
DTSTART;TZID=America/Chicago:20260502T110000
DTEND;TZID=America/Chicago:20260502T150000
DTSTAMP:20260422T230912
CREATED:20260316T151718Z
LAST-MODIFIED:20260316T151718Z
UID:10052-1777719600-1777734000@www.bcic220.org
SUMMARY:BCIC at KidFest
DESCRIPTION:Come visit BCIC at the FREE Annual Barrington Area KidFest Kite Fly and Nature Learning event hosted by the Barrington Park District at Citizens Park. Learn more about D220’s Chinese Immersion program\, talk to current board members\, fly a kite and enjoy the spring weather. \nAdditional event details are located here www.barringtonparkdistrict.org/kidfest/ \nStudent and Parent volunteers needed and can register here \n🗓️ Date: Saturday\, May 2nd \n🕚 Time: 11:00 AM to 3:00 PM \n📍 Location: Citizens Park
URL:https://www.bcic220.org/event/bcic-at-kidfest/
LOCATION:Citizen’s Park\, 511 N Lake Zurich Rd\, Barrington\, IL\, 60010\, United States
ORGANIZER;CN="Barrington Park District":MAILTO:info@barringtonparkdistrict.org
END:VEVENT
BEGIN:VEVENT
DTSTART;TZID=America/Chicago:20260507T183000
DTEND;TZID=America/Chicago:20260507T193000
DTSTAMP:20260422T230912
CREATED:20250820T030424Z
LAST-MODIFIED:20260414T200746Z
UID:8916-1778178600-1778182200@www.bcic220.org
SUMMARY:BCIC Open Board Meeting – Open to all CI Parents/Gaurdians (In Person or Virtually)
DESCRIPTION:🗓️ Date: Thursday\, May 7th \n🕚 Time: 6:30PM \n📍 Location: Barrington Area Library Zimmerman Room B \n  \nThe Barrington Area Library provides Meeting Room space as a community service. The Barrington Area Library neither sponsors nor endorses this event or the presenting individuals or organizations.
URL:https://www.bcic220.org/event/bcic-board-meeting-may/
LOCATION:Barrington Area Library\, 505 N. Northwest Highway\, Barrington\, IL\, 60010
CATEGORIES:BCIC Board Meeting
ATTACH;FMTTYPE=image/jpeg:https://www.bcic220.org/wp-content/uploads/2025/08/Black-and-Red-Simple-Coming-Soon-Poster-e1776197251607.jpg
ORGANIZER;CN="BCIC":MAILTO:bcic220@gmail.com
END:VEVENT
BEGIN:VEVENT
DTSTART;TZID=America/Chicago:20260527T170000
DTEND;TZID=America/Chicago:20260527T190000
DTSTAMP:20260422T230912
CREATED:20260316T153244Z
LAST-MODIFIED:20260316T153244Z
UID:10055-1779901200-1779908400@www.bcic220.org
SUMMARY:CI End of the Year Party
DESCRIPTION:Let’s celebrate!!! \nAll CI students and families are invited to join us for a casual\, fun and free get together at North Barrington Elementary School to celebrate a successful school year. \nSnacks and Kona Ice will be available for purchase. \n🗓️ Date: Wednesday\, May 27th \n🕚 Time: 5:00 PM to 7:00 PM \n📍 Location: North Barrington Elementary School
URL:https://www.bcic220.org/event/ci-end-of-the-year-party/
LOCATION:North Barrington Elementary School\, 24175 N Grandview Drive\, North Barrington\, IL\, 60010\, United States
ORGANIZER;CN="BCIC":MAILTO:bcic220@gmail.com
END:VEVENT
END:VCALENDAR