BEGIN:VCALENDAR
VERSION:2.0
PRODID:-//Barrington Chinese Immersion Council - ECPv6.15.20//NONSGML v1.0//EN
CALSCALE:GREGORIAN
METHOD:PUBLISH
X-ORIGINAL-URL:https://www.bcic220.org
X-WR-CALDESC:Events for Barrington Chinese Immersion Council
REFRESH-INTERVAL;VALUE=DURATION:PT1H
X-Robots-Tag:noindex
X-PUBLISHED-TTL:PT1H
BEGIN:VTIMEZONE
TZID:America/Chicago
BEGIN:DAYLIGHT
TZOFFSETFROM:-0600
TZOFFSETTO:-0500
TZNAME:CDT
DTSTART:20230312T080000
END:DAYLIGHT
BEGIN:STANDARD
TZOFFSETFROM:-0500
TZOFFSETTO:-0600
TZNAME:CST
DTSTART:20231105T070000
END:STANDARD
BEGIN:DAYLIGHT
TZOFFSETFROM:-0600
TZOFFSETTO:-0500
TZNAME:CDT
DTSTART:20240310T080000
END:DAYLIGHT
BEGIN:STANDARD
TZOFFSETFROM:-0500
TZOFFSETTO:-0600
TZNAME:CST
DTSTART:20241103T070000
END:STANDARD
BEGIN:DAYLIGHT
TZOFFSETFROM:-0600
TZOFFSETTO:-0500
TZNAME:CDT
DTSTART:20250309T080000
END:DAYLIGHT
BEGIN:STANDARD
TZOFFSETFROM:-0500
TZOFFSETTO:-0600
TZNAME:CST
DTSTART:20251102T070000
END:STANDARD
BEGIN:DAYLIGHT
TZOFFSETFROM:-0600
TZOFFSETTO:-0500
TZNAME:CDT
DTSTART:20260308T080000
END:DAYLIGHT
BEGIN:STANDARD
TZOFFSETFROM:-0500
TZOFFSETTO:-0600
TZNAME:CST
DTSTART:20261101T070000
END:STANDARD
BEGIN:DAYLIGHT
TZOFFSETFROM:-0600
TZOFFSETTO:-0500
TZNAME:CDT
DTSTART:20270314T080000
END:DAYLIGHT
BEGIN:STANDARD
TZOFFSETFROM:-0500
TZOFFSETTO:-0600
TZNAME:CST
DTSTART:20271107T070000
END:STANDARD
END:VTIMEZONE
BEGIN:VEVENT
DTSTART;TZID=America/Chicago:20260409T183000
DTEND;TZID=America/Chicago:20260409T203000
DTSTAMP:20260423T062158
CREATED:20250820T030228Z
LAST-MODIFIED:20260316T153355Z
UID:8914-1775759400-1775766600@www.bcic220.org
SUMMARY:BCIC Closed Board Meeting
DESCRIPTION:🗓️ Date: Thursday\, April 9th \n🕚 Time: 6:30PM-8:30PM \n📍 Location: Barrington Area Library Main Meeting Room – Side B \n  \nThe Barrington Area Library provides Meeting Room space as a community service. The Barrington Area Library neither sponsors nor endorses this event or the presenting individuals or organizations.
URL:https://www.bcic220.org/event/bcic-board-meeting-april/
LOCATION:Barrington Area Library\, 505 N. Northwest Highway\, Barrington\, IL\, 60010
CATEGORIES:BCIC Board Meeting
ORGANIZER;CN="BCIC":MAILTO:bcic220@gmail.com
END:VEVENT
BEGIN:VEVENT
DTSTART;TZID=America/Chicago:20260312T183000
DTEND;TZID=America/Chicago:20260312T193000
DTSTAMP:20260423T062158
CREATED:20250820T025840Z
LAST-MODIFIED:20260123T214003Z
UID:8912-1773340200-1773343800@www.bcic220.org
SUMMARY:BCIC Open Board Meeting – Open to all CI Parents/Gaurdians (In Person or Virtually)
DESCRIPTION:🗓️ Date: Thursday\, March 12th \n🕚 Time: 6:30PM \n📍 Location: Barrington Area Library Zimmerman Room \n  \nThe Barrington Area Library provides Meeting Room space as a community service. The Barrington Area Library neither sponsors nor endorses this event or the presenting individuals or organizations.
URL:https://www.bcic220.org/event/bcic-board-meeting-march/
LOCATION:Barrington Area Library\, 505 N. Northwest Highway\, Barrington\, IL\, 60010
CATEGORIES:BCIC Board Meeting
ATTACH;FMTTYPE=image/png:https://www.bcic220.org/wp-content/uploads/2025/08/Red-and-Pink-Illustrated-Heart-To-Do-List-e1769204374641.png
ORGANIZER;CN="BCIC":MAILTO:bcic220@gmail.com
END:VEVENT
BEGIN:VEVENT
DTSTART;TZID=America/Chicago:20260210T183000
DTEND;TZID=America/Chicago:20260210T203000
DTSTAMP:20260423T062158
CREATED:20250820T025628Z
LAST-MODIFIED:20251116T195601Z
UID:8910-1770748200-1770755400@www.bcic220.org
SUMMARY:BCIC Closed Board Meeting
DESCRIPTION:🗓️ Date: Tuesday\, February 10th \n🕚 Time: 6:30PM-8:30PM \n📍 Location: Barrington Area Library Zimmerman Room \n  \nThe Barrington Area Library provides Meeting Room space as a community service. The Barrington Area Library neither sponsors nor endorses this event or the presenting individuals or organizations.
URL:https://www.bcic220.org/event/bcic-board-meeting-february/
LOCATION:Barrington Area Library\, 505 N. Northwest Highway\, Barrington\, IL\, 60010
CATEGORIES:BCIC Board Meeting
ORGANIZER;CN="BCIC":MAILTO:bcic220@gmail.com
END:VEVENT
BEGIN:VEVENT
DTSTART;TZID=America/Chicago:20260113T183000
DTEND;TZID=America/Chicago:20260113T193000
DTSTAMP:20260423T062158
CREATED:20250820T025005Z
LAST-MODIFIED:20251223T024201Z
UID:8908-1768329000-1768332600@www.bcic220.org
SUMMARY:BCIC Open Board Meeting - Open to all CI Parents/Gaurdians (In Person or Virtually)
DESCRIPTION:Join our BCIC Open Board Meeting in person or virtually. Learn about BCIC and hear how we are supporting the CI program through initiatives and events. Please use the registration link above to submit a question/comment by Friday\, January 9th to be sure it is addressed during the meeting. \n🗓️ Date: Tuesday\, January 13th \n🕚 Time: 6:30PM \n📍 Location: Barrington Area Library OR Virtual – Register to receive link (emailed shortly before meeting begins)
URL:https://www.bcic220.org/event/bcic-board-meeting-january/
LOCATION:Barrington Area Library\, 505 N. Northwest Highway\, Barrington\, IL\, 60010
CATEGORIES:BCIC Board Meeting
ATTACH;FMTTYPE=image/png:https://www.bcic220.org/wp-content/uploads/2025/08/Screenshot-2025-11-16-at-2.56.08-PM-e1763329862597.png
ORGANIZER;CN="BCIC":MAILTO:bcic220@gmail.com
END:VEVENT
BEGIN:VEVENT
DTSTART;TZID=America/Chicago:20251209T183000
DTEND;TZID=America/Chicago:20251209T203000
DTSTAMP:20260423T062158
CREATED:20250820T024710Z
LAST-MODIFIED:20251116T195501Z
UID:8906-1765305000-1765312200@www.bcic220.org
SUMMARY:BCIC Closed Board Meeting
DESCRIPTION:🗓️ Date: Tuesday\, December 9th \n🕚 Time: 6:30PM-8:30PM \n📍 Location: Barrington Area Library Zimmerman Room \n  \nThe Barrington Area Library provides Meeting Room space as a community service. The Barrington Area Library neither sponsors nor endorses this event or the presenting individuals or organizations.
URL:https://www.bcic220.org/event/bcic-board-meeting-december/
LOCATION:Barrington Area Library\, 505 N. Northwest Highway\, Barrington\, IL\, 60010
CATEGORIES:BCIC Board Meeting
ORGANIZER;CN="BCIC":MAILTO:bcic220@gmail.com
END:VEVENT
BEGIN:VEVENT
DTSTART;TZID=America/Chicago:20251113T183000
DTEND;TZID=America/Chicago:20251113T193000
DTSTAMP:20260423T062158
CREATED:20250820T024301Z
LAST-MODIFIED:20251027T034931Z
UID:8903-1763058600-1763062200@www.bcic220.org
SUMMARY:BCIC Board Meeting - Open to all CI Parents/Gaurdians (In Person or Virtually)
DESCRIPTION:Join our BCIC Open Board Meeting in person or virtually with special guests from D220 administration. Learn about BCIC and hear how we are supporting the CI program through initiatives and events. Please use the registration link above to submit a question/comment for our guests prior to the meeting to be sure it is addressed during the meeting. \n🗓️ Date: Thursday\, November 13th \n🕚 Time: 6:30PM-7:30PM \n📍 Location: Media Center (library) of Station Middle School OR Virtual – Register to receive link
URL:https://www.bcic220.org/event/bcic-board-meeting-november/
LOCATION:Station Middle School\, 215 S Eastern Ave\, Barrington\, IL\, 60010\, United States
CATEGORIES:BCIC Board Meeting
ORGANIZER;CN="BCIC":MAILTO:bcic220@gmail.com
END:VEVENT
BEGIN:VEVENT
DTSTART;TZID=America/Chicago:20251009T183000
DTEND;TZID=America/Chicago:20251009T203000
DTSTAMP:20260423T062158
CREATED:20250820T023656Z
LAST-MODIFIED:20250820T025202Z
UID:8901-1760034600-1760041800@www.bcic220.org
SUMMARY:BCIC Board Meeting
DESCRIPTION:🗓️ Date: Thursday\, October 9th \n🕚 Time: 6:30PM-8:30PM \n📍 Location: Barrington Area Library Zimmerman Room \n  \nThe Barrington Area Library provides Meeting Room space as a community service. The Barrington Area Library neither sponsors nor endorses this event or the presenting individuals or organizations.
URL:https://www.bcic220.org/event/bcic-board-meeting-october/
LOCATION:Barrington Area Library\, 505 N. Northwest Highway\, Barrington\, IL\, 60010
CATEGORIES:BCIC Board Meeting
ORGANIZER;CN="BCIC":MAILTO:bcic220@gmail.com
END:VEVENT
BEGIN:VEVENT
DTSTART;TZID=America/Chicago:20250909T183000
DTEND;TZID=America/Chicago:20250909T193000
DTSTAMP:20260423T062158
CREATED:20250818T210941Z
LAST-MODIFIED:20250906T032617Z
UID:8891-1757442600-1757446200@www.bcic220.org
SUMMARY:BCIC Board Meeting - Open to all CI Parents/Guardians (In Person or Virtually)
DESCRIPTION:Join our BCIC Open Board Meeting in person or virtually. Learn about BCIC and hear how we are supporting the CI program through initiatives and events. \n🗓️ Date: Tuesday\, September 9th \n🕚 Time: 6:30PM-7:30PM \n📍 Location: Media Center (library) of Station Middle School OR Virtual – Register to receive link \n 
URL:https://www.bcic220.org/event/bcic-board-meeting-september/
LOCATION:Station Middle School\, 215 S Eastern Ave\, Barrington\, IL\, 60010\, United States
CATEGORIES:BCIC Board Meeting
ORGANIZER;CN="BCIC":MAILTO:bcic220@gmail.com
END:VEVENT
BEGIN:VEVENT
DTSTART;TZID=America/Chicago:20250812T183000
DTEND;TZID=America/Chicago:20250812T203000
DTSTAMP:20260423T062158
CREATED:20250820T031722Z
LAST-MODIFIED:20250820T031722Z
UID:8918-1755023400-1755030600@www.bcic220.org
SUMMARY:BCIC Board Meeting
DESCRIPTION:🗓️ Date: Tuesday\, August 12th \n🕚 Time: 6:30PM-8:30PM \n📍 Location: Barrington Area Library Zimmerman Room \n  \nThe Barrington Area Library provides Meeting Room space as a community service. The Barrington Area Library neither sponsors nor endorses this event or the presenting individuals or organizations.
URL:https://www.bcic220.org/event/bcic-board-meeting-august/
LOCATION:Barrington Area Library\, 505 N. Northwest Highway\, Barrington\, IL\, 60010
CATEGORIES:BCIC Board Meeting
ORGANIZER;CN="BCIC":MAILTO:bcic220@gmail.com
END:VEVENT
BEGIN:VEVENT
DTSTART;TZID=America/Chicago:20250508T183000
DTEND;TZID=America/Chicago:20250508T193000
DTSTAMP:20260423T062158
CREATED:20231031T164412Z
LAST-MODIFIED:20250412T031134Z
UID:6939-1746729000-1746732600@www.bcic220.org
SUMMARY:BCIC Open Board Meeting
DESCRIPTION:Join our BCIC Open Board Meeting! Hear how we are supporting the CI program through initiatives\, events\, etc. \n🗓️ Date: Thursday\, May 8th \n🕚 Time: 6:30PM-7:30PM \n📍 Location: Barrington Area Library Zimmerman Room \n  \nThe Barrington Area Library provides Meeting Room space as a community service. The Barrington Area Library neither sponsors nor endorses this event or the presenting individuals or organizations.
URL:https://www.bcic220.org/event/bcic-open-board-meeting-2/
LOCATION:Barrington Area Library\, 505 N. Northwest Highway\, Barrington\, IL\, 60010
CATEGORIES:BCIC Board Meeting,BCIC Events
ATTACH;FMTTYPE=image/png:https://www.bcic220.org/wp-content/uploads/2023/10/BCIC-Open-Board-Meeting-Template-copy-2-2.png
ORGANIZER;CN="BCIC":MAILTO:bcic220@gmail.com
END:VEVENT
BEGIN:VEVENT
DTSTART;TZID=America/Chicago:20241114T183000
DTEND;TZID=America/Chicago:20241114T193000
DTSTAMP:20260423T062158
CREATED:20230927T203259Z
LAST-MODIFIED:20241010T121507Z
UID:6698-1731609000-1731612600@www.bcic220.org
SUMMARY:BCIC Board Meeting with special guests\, Becky Wiegel and Kathryn Wolfkiel
DESCRIPTION:Hear updates on the CI program!\nAll Chinese Immersion parents and guardians are welcome to the BCIC board meeting with Becky Wiegel\, Director of District Programs at Barrington 220 and Kathryn Wolfkiel\, Department Chair of the BHS World Language Department. \n🗓️ Event Date: Thursday\, November 14\n⏰ Time: 6:30 PM    ***Doors open at 6:15PM and lock at 6:40PM***\n📍 Where: Barrington 220 District Office (515 West Main St\, Barrington IL 60010) \nFor other BCIC events please visit our event site at www.bcic220.org/events or our Facebook group at BCIC Facebook Group
URL:https://www.bcic220.org/event/bcic-board-meeting-with-special-guests-becky-wiegel/
LOCATION:Barrington 220 District Office\, 515 West Main Street\, Barrington\, IL\, 60010\, United States
CATEGORIES:BCIC Board Meeting,BCIC Events,CI Community,D220
ATTACH;FMTTYPE=image/png:https://www.bcic220.org/wp-content/uploads/2023/09/BeckyBCICMeeting-1-2.png
ORGANIZER;CN="BCIC":MAILTO:bcic220@gmail.com
END:VEVENT
BEGIN:VEVENT
DTSTART;TZID=America/Chicago:20240516T190000
DTEND;TZID=America/Chicago:20240516T200000
DTSTAMP:20260423T062158
CREATED:20240125T150345Z
LAST-MODIFIED:20240502T235709Z
UID:7293-1715886000-1715889600@www.bcic220.org
SUMMARY:BCIC Gratitude Session and Open Board Meeting
DESCRIPTION:🌟 Calling All CI Parents or Guardians to attend BCIC Meeting! 🌟 \nAgenda \n\nHave some cookies and snacks while engaging in conversation with fellow CI parents.\nGratitude Session: BCIC wants to express our heartfelt appreciation for the dedication of our volunteers\, whose efforts make it all possible.\nWhat’s on your mind? Share your ideas and feedback.\n\nParents interested in exploring opportunities to serve on our board are encouraged to stay for more detailed information and discussions.\n🗓️ Date: Thursday\, May 16th \n🕚 Time: 7PM \n📍 Location: Barrington Area Library Meeting Room B \nDon’t miss this opportunity to get involved and make a difference in the Chinese immersion community. Together\, we can empower students to become global citizens with proficiency in Chinese language and a deep appreciation for Chinese culture. \nFor more information or to express your interest\, please contact bcic220@gmail.com. \nRegistration greatly appreciated.
URL:https://www.bcic220.org/event/bcic-open-board-meeting/
LOCATION:Barrington Area Library\, 505 N. Northwest Highway\, Barrington\, IL\, 60010
CATEGORIES:BCIC Board Meeting,BCIC Events
ATTACH;FMTTYPE=image/png:https://www.bcic220.org/wp-content/uploads/2024/01/BCIC-Open-Board-Meetings-1.png
ORGANIZER;CN="BCIC":MAILTO:bcic220@gmail.com
END:VEVENT
END:VCALENDAR