BEGIN:VCALENDAR
VERSION:2.0
PRODID:-//Barrington Chinese Immersion Council - ECPv6.15.20//NONSGML v1.0//EN
CALSCALE:GREGORIAN
METHOD:PUBLISH
X-WR-CALNAME:Barrington Chinese Immersion Council
X-ORIGINAL-URL:https://www.bcic220.org
X-WR-CALDESC:Events for Barrington Chinese Immersion Council
REFRESH-INTERVAL;VALUE=DURATION:PT1H
X-Robots-Tag:noindex
X-PUBLISHED-TTL:PT1H
BEGIN:VTIMEZONE
TZID:America/Chicago
BEGIN:DAYLIGHT
TZOFFSETFROM:-0600
TZOFFSETTO:-0500
TZNAME:CDT
DTSTART:20220313T080000
END:DAYLIGHT
BEGIN:STANDARD
TZOFFSETFROM:-0500
TZOFFSETTO:-0600
TZNAME:CST
DTSTART:20221106T070000
END:STANDARD
BEGIN:DAYLIGHT
TZOFFSETFROM:-0600
TZOFFSETTO:-0500
TZNAME:CDT
DTSTART:20230312T080000
END:DAYLIGHT
BEGIN:STANDARD
TZOFFSETFROM:-0500
TZOFFSETTO:-0600
TZNAME:CST
DTSTART:20231105T070000
END:STANDARD
BEGIN:DAYLIGHT
TZOFFSETFROM:-0600
TZOFFSETTO:-0500
TZNAME:CDT
DTSTART:20240310T080000
END:DAYLIGHT
BEGIN:STANDARD
TZOFFSETFROM:-0500
TZOFFSETTO:-0600
TZNAME:CST
DTSTART:20241103T070000
END:STANDARD
BEGIN:DAYLIGHT
TZOFFSETFROM:-0600
TZOFFSETTO:-0500
TZNAME:CDT
DTSTART:20250309T080000
END:DAYLIGHT
BEGIN:STANDARD
TZOFFSETFROM:-0500
TZOFFSETTO:-0600
TZNAME:CST
DTSTART:20251102T070000
END:STANDARD
BEGIN:DAYLIGHT
TZOFFSETFROM:-0600
TZOFFSETTO:-0500
TZNAME:CDT
DTSTART:20260308T080000
END:DAYLIGHT
BEGIN:STANDARD
TZOFFSETFROM:-0500
TZOFFSETTO:-0600
TZNAME:CST
DTSTART:20261101T070000
END:STANDARD
BEGIN:DAYLIGHT
TZOFFSETFROM:-0600
TZOFFSETTO:-0500
TZNAME:CDT
DTSTART:20270314T080000
END:DAYLIGHT
BEGIN:STANDARD
TZOFFSETFROM:-0500
TZOFFSETTO:-0600
TZNAME:CST
DTSTART:20271107T070000
END:STANDARD
END:VTIMEZONE
BEGIN:VEVENT
DTSTART;TZID=America/Chicago:20260416T170000
DTEND;TZID=America/Chicago:20260416T190000
DTSTAMP:20260423T082123
CREATED:20260304T180020Z
LAST-MODIFIED:20260414T184947Z
UID:9890-1776358800-1776366000@www.bcic220.org
SUMMARY:Character Bee 2026
DESCRIPTION:We are delighted to announce the upcoming Character Bee\, an exciting and educational experience showcasing the language skills of your student(s). \nWhat is the Chinese Character Bee? \nThe Chinese Character Bee is an opportunity for participants 1st through 5th to showcase their knowledge of Mandarin Chinese characters. Students will engage in friendly competition\, promoting language proficiency\, and celebrating the richness of the Chinese language. \nEvent Schedule: \n4th & 5th GradeCheck-in: 4:45 PMBee Begins: 5:00PM \n1st\, 2nd\, & 3rd GradesCheck-in: 5:45 PMBees Begin: 6:00 PM \nStudy Guides by Grade Level: Grade Level Study guide will be provided by the classroom teacher. \nHere is the links to the Character Bee rules and procedures. \nSave the Date and Spread the Buzz! \nMark your calendars! The Character Bee will be a highlight of the academic year\, bringing our community together to celebrate the beauty and complexity of the Chinese language. \nFor more information or inquiries\, please contact bcic220@gmail.com. \nWe look forward to your enthusiastic participation in the Chinese Character Bee!
URL:https://www.bcic220.org/event/character-bee-2026/
LOCATION:Countryside Elementary School\, 205 W County Line Rd\, Barrington\, IL\, 60010\, United States
CATEGORIES:Character Bee
ATTACH;FMTTYPE=image/jpeg:https://www.bcic220.org/wp-content/uploads/2026/03/Black-Yellow-Modern-World-Bee-Day-Poster-e1773610028736.jpg
END:VEVENT
BEGIN:VEVENT
DTSTART;TZID=America/Chicago:20251114T160000
DTEND;TZID=America/Chicago:20251114T170000
DTSTAMP:20260423T082123
CREATED:20231019T031440Z
LAST-MODIFIED:20251105T130742Z
UID:6828-1763136000-1763139600@www.bcic220.org
SUMMARY:Service Project: Make Thanksgiving cards in other languages for Greencastle residents
DESCRIPTION:🦃 This Thanksgiving\, BCIC is seeking students and families to help make handmade Thanksgiving cards for residents of Greencastle of Barrington. The cards will be attached to the residents’ Thanksgiving dinner packages donated by other organizations. \nPlease make cards on thicker paper or cardstock with original artwork and a message such as \nHappy Thanksgiving! We wish you happiness and good health. \n感恩节快乐！祝您幸福、身体健康。 \nCards may be signed with students’ first name or family name. Envelopes are not needed. \n🌍 Greencastle is a very diverse community. We are requesting cards written in Mandarin\, Russian\, Hindu\, Korean\, and more. We would like to provide cards for residents in as many languages as possible. \nCARDS MUST ARRIVE AT GREENCASTLE BY FRIDAY\, NOVEMBER 21. \nYou can mail or drop off the cards at: \nGreencastle of Barrington\nAttention: Qi Teng\n445 E. Main Street\nBarrington\, IL 60010 \nIf dropping off in person\, please coordinate with Social Services Coordinator\, Qi Teng\, qteng@embraceliving.org \n✏️ Please register and indicate how many cards your family would like to make in each language. \nStudents in 7th grade and up are welcome to join us at Station Middle School on Friday\, November 14 at 4pm. Service credit is available for NJHS and BHS students: Make Thanksgiving Cards for Greencastle at Station Middle School! Friday November 14\, 4-5pm  \n🍁 Thank you and Happy Thanksgiving to you and your families! 🍁 \n 
URL:https://www.bcic220.org/event/thanksgiving-cards-for-the-residents-of-greencastle-of-barrington/
LOCATION:Station Middle School\, 215 S Eastern Ave\, Barrington\, IL\, 60010\, United States
CATEGORIES:BCIC Events,BCIC Major Events,Greencastle,Volunteer
ATTACH;FMTTYPE=image/jpeg:https://www.bcic220.org/wp-content/uploads/2023/10/IMG-20221117-110609560.jpg
ORGANIZER;CN="BCIC":MAILTO:bcic220@gmail.com
END:VEVENT
BEGIN:VEVENT
DTSTART;TZID=America/Chicago:20250927T093000
DTEND;TZID=America/Chicago:20250927T120000
DTSTAMP:20260423T082123
CREATED:20250820T045441Z
LAST-MODIFIED:20250920T171857Z
UID:8923-1758965400-1758974400@www.bcic220.org
SUMMARY:Homecoming Parade - 2025
DESCRIPTION:BCIC has a float in the Barrington High School Homecoming Parade! Register to join us! \nUnder the Stars is the theme! \nCI Float Slogan is “Miami Nights Meets China Nights”\nSign Up Here to decorate the float Sat Sept 14th\nWear your traditional Chinese clothes or BCIC spiritwear. Bring candy if you’d like to pass it out.\n\n\nNEW PARADE ROUTE AND STARTING PLACE DUE TO CONSTRUCTION ON RT. 14\n\n\nGeneral event details: Arrive at the St. Matthew Lutheran Church\, 720 Dundee Avenue\, 9/23 at 9:30am (cannot park on site so plan accordingly). No candy can be thrown from the float during the parade\, but you may hand out your own candy. Ride/Walk in the parade to the BHS high school.\n**Please note float riding priority is given to the young students and disabled** \n**Any participants in 3rd grade or younger MUST be supervised – No Drop Offs** \n\nMiddle or high school age students interested in volunteering to carry the dragon or assist with the younger CI kids during parade click here.\n  \n\nFor other BCIC events please visit our event site at www.bcic220.org/events or our facebook page at BCIC Facebook Group
URL:https://www.bcic220.org/event/homecoming-parade-2025/
LOCATION:St. Matthew Lutheran Church\, 720 Dundee Avenue\, Barrington\, IL\, 60010\, United States
CATEGORIES:BCIC Major Events,Homecoming Parade
ATTACH;FMTTYPE=image/jpeg:https://www.bcic220.org/wp-content/uploads/2025/09/homecoming.jpg
END:VEVENT
BEGIN:VEVENT
DTSTART;TZID=America/Chicago:20250529T170000
DTEND;TZID=America/Chicago:20250529T190000
DTSTAMP:20260423T082123
CREATED:20240413T112022Z
LAST-MODIFIED:20250501T211202Z
UID:7699-1748538000-1748545200@www.bcic220.org
SUMMARY:End of Year Celebration 2025
DESCRIPTION:Chinese Immersion End of Year Celebration\nJoin us for a celebration at Countryside Elementary School.\n \n– Date: May 29th\, 2025\n– Time: 5:00 PM – 7:00 PM\n– Location: Countryside Elementary School Playground \nExperience an evening of fun with your CI family!\nAt the CI End of the Year celebration\, you’ll have the opportunity to enjoy friendly matches of basketball\, Chinese activities and challenge yourself with Chinese board and card games. \nCraft: TBD\n\nKona Ice Truck 5:30-7:00pm\n\nWear BCIC or your School spirit wear!\nShare your lightly used Chinese traditional clothing or Spiritwear at the swap table. \nVolunteer Here: www.bcic220.org/sheet/ci-end-of-the-year-celebration/\nGet ready for a time of fun and excitement celebrating our CI students! \nPlease register to secure your spot. \nWe look forward to celebrating with you!
URL:https://www.bcic220.org/event/end-of-year-celebration/
LOCATION:Countryside Elementary School\, 205 W County Line Rd\, Barrington\, IL\, 60010\, United States
CATEGORIES:BCIC Events,CI Community,CI End of Year Celebration
ATTACH;FMTTYPE=image/png:https://www.bcic220.org/wp-content/uploads/2024/04/Untitled.png
ORGANIZER;CN="BCIC":MAILTO:bcic220@gmail.com
END:VEVENT
BEGIN:VEVENT
DTSTART;TZID=America/Chicago:20250429T173000
DTEND;TZID=America/Chicago:20250429T200000
DTSTAMP:20260423T082123
CREATED:20250213T215422Z
LAST-MODIFIED:20250404T213704Z
UID:8602-1745947800-1745956800@www.bcic220.org
SUMMARY:2025 Character Bee
DESCRIPTION:We are delighted to announce the upcoming Character Bee\, an exciting and educational experience showcasing the language skills of your student(s). \nWhat is the Chinese Character Bee? \nThe Chinese Character Bee is an opportunity for participants 1st through 5th to showcase their knowledge of Mandarin Chinese characters. Students will engage in friendly competition\, promoting language proficiency\, and celebrating the richness of the Chinese language. \nEvent Schedule: \n5th GradeCheck-in: 5:15 PMBee Begins: 5:30 PM \n1st & 2nd GradesCheck-in: 5:45 PMBees Begin: 6:00 PM \n3rd & 4th GradesCheck-in: 6:30 PMBees Begin: 6:45 PM \nStudy Guides by Grade Level: Grade Level Study guide will be provided by the classroom teacher. \nHere is the links to the Character Bee rules and procedures. \nSave the Date and Spread the Buzz! \nMark your calendars! The Character Bee will be a highlight of the academic year\, bringing our community together to celebrate the beauty and complexity of the Chinese language. \nFor more information or inquiries\, please contact bcic220@gmail.com. \nWant to help? Volunteer here: https://www.bcic220.org/sheet/character-bee/ \nWe look forward to your enthusiastic participation in the Chinese Character Bee!
URL:https://www.bcic220.org/event/character-bee/
LOCATION:Countryside Elementary School\, 205 W County Line Rd\, Barrington\, IL\, 60010\, United States
CATEGORIES:BCIC Events,BCIC Major Events,Character Bee
ATTACH;FMTTYPE=image/png:https://www.bcic220.org/wp-content/uploads/2025/02/Character-Bee-2024-1.png
ORGANIZER;CN="BCIC":MAILTO:bcic220@gmail.com
END:VEVENT
BEGIN:VEVENT
DTSTART;VALUE=DATE:20250202
DTEND;VALUE=DATE:20250203
DTSTAMP:20260423T082123
CREATED:20241119T024558Z
LAST-MODIFIED:20250113T000334Z
UID:8307-1738454400-1738540799@www.bcic220.org
SUMMARY:Lunar New Year at the White House 2025
DESCRIPTION:Join Us for the Barrington Chinese Immersion Council (BCIC) Annual Lunar New Year Celebration! 🐉🎉 Happy Year of the Snake 🎉 \nSunday\, February 2\, 2025\, 1-5 pm \nShihan Joe Gangi from Gangi Martial Arts will be performing interactive demonstration \nFeatured Cultural Activities: \n\nChinese calligraphy\n\n\nChinese Weiqi game\n\n\nChinese Mahjong game\n\nPlus music\, art and crafts\, and cultural food.  We have several new activities that are sure to add to the fun and cultural experience! \nSecure Your Spot: Entry Tickets are $15 per person (ages 4 and under free) and are available via RevTrak. Entry tickets include all the activities and the cultural performance.  \nPre-paid concessions and souvenir: Pre-paid concession and souvenir tickets are $15 for 10 tickets (Each food/drink/Souvenir item is 1-2 tickets). At the event\, concession tickets are $6 for 3 tickets.  \nMystery Gift Bag Fundraiser: Limited availability! Please make your purchase in advance. Mystery gift bag tickets are $10 each\, a great souvenir for your students filled with cultural items and toys.  \nRaffle prizes: Raffle tickets are $10 each with confirmed prizes of Martial Arts lessons\, restaurant gift cards\, Lego sets\, Lunar New Year-themed gifts and more. \nVolunteers: These wonderful events are only possible by many hands working together. Your help is greatly appreciated! Sign up here to volunteer \nCI Family and Local Business Sponsorships are welcome: BCIC Events | Barrington 220 CUSD. Your donations make it possible to host this special event this year for our community and keep ticket prices affordable for CI students and families. Proceeds from this event will support BCIC in providing language and cultural enrichment for the Chinese Immersion program.  \nSpecial Thanks: \nThank you District 220 for funding the Martial Arts performances!  \nThank you to the Barrington Area Community Foundation for a generous grant making it possible to celebrate at the Barrington White House!  We also thank the Barrington White House for their support hosting the event!  \nPlease note that exclusive ticket purchasing for CI families will be available until Jan 22nd\, 11:59PM Central. Following this\, tickets will be released to extended family members\, the broader D220 Community\, and the Xilin Northwest families. Thank you for your continued support and participation in our community events.  \nFor more event details visit our website at www.bcic220.org/events.  \n  \n  \n  \n\n\n\n\n\n\n\n\n\n 
URL:https://www.bcic220.org/event/lunar-new-year-at-the-white-house-2025/
LOCATION:The Barrington’s White House\, 145 W Main St\, Barrington\, IL\, 60010\, United States
CATEGORIES:BCIC Events,BCIC Major Events
ATTACH;FMTTYPE=image/jpeg:https://www.bcic220.org/wp-content/uploads/2024/11/lny-snake-2025-savethedate-scaled.jpg
ORGANIZER;CN="BCIC":MAILTO:bcic220@gmail.com
END:VEVENT
BEGIN:VEVENT
DTSTART;TZID=America/Chicago:20240928T093000
DTEND;TZID=America/Chicago:20240928T120000
DTSTAMP:20260423T082123
CREATED:20230726T162602Z
LAST-MODIFIED:20240921T224300Z
UID:6047-1727515800-1727524800@www.bcic220.org
SUMMARY:Join the Chinese Immersion community and float in the BHS Homecoming Parade
DESCRIPTION:The CI family has a float for the Barrington High School Homecoming Parade! Register to join us! \nUnder the Stars is the theme! \nCI Float Slogan is “Under the Same Stars: CI Unites Two Cultures”\nSign Up Here to decorate the float Sat Sept 21st\nWear your traditional Chinese clothes or BCIC spiritwear. Bring candy if you’d like to pass it out.\nGeneral event details: Arrive at the Morretti’s parking lot 9/23 at 9:30am (cannot park on site so plan accordingly). No candy can be thrown during the parade\, but you may hand out your own candy. Ride/Walk in the parade to the BHS high school. Pick up will be at BHS when we finish the parade route.\n\nMiddle or high school age students interested in volunteering click here.\n\n**Please note float riding priority is given to the young students and disabled. Any participants in 3rd grade or younger MUST be supervised** \n\nFor other BCIC events please visit our event site at www.bcic220.org/events or our facebook page at BCIC Facebook Group
URL:https://www.bcic220.org/event/homecoming-parade/
LOCATION:Moretti’s Restaurant Parking Lot\, 128 S Wool St\, Barrington\, IL\, 60010
CATEGORIES:BCIC Events,CI Community,D220,Homecoming Parade,Newsletter
ATTACH;FMTTYPE=image/jpeg:https://www.bcic220.org/wp-content/uploads/2023/07/IMG_0751-1.jpeg
ORGANIZER;CN="BCIC":MAILTO:bcic220@gmail.com
END:VEVENT
BEGIN:VEVENT
DTSTART;TZID=America/Chicago:20240424T180000
DTEND;TZID=America/Chicago:20240424T200000
DTSTAMP:20260423T082123
CREATED:20231212T164302Z
LAST-MODIFIED:20240422T032236Z
UID:7148-1713981600-1713988800@www.bcic220.org
SUMMARY:Character Bee 2024
DESCRIPTION:We are delighted to announce the upcoming Character Bee\, an exciting and educational experience showcasing the language skills of your student(s). \nWhat is the Chinese Character Bee? \nThe Chinese Character Bee is an opportunity for participants 1st through 5th to showcase their knowledge of Mandarin Chinese characters. Students will engage in friendly competition\, promoting language proficiency\, and celebrating the richness of the Chinese language. \nStudy Guides by Grade Level: Grade Level Study guide \nHere is the links to the Character Bee rules and procedures. \nSave the Date and Spread the Buzz! \nMark your calendars! The Character Bee will be a highlight of the academic year\, bringing our community together to celebrate the beauty and complexity of the Chinese language. \nFor more information or inquiries\, please contact bcic220@gmail.com. \nWant to help? Volunteer here: https://www.bcic220.org/sheet/2024-character-bee/ \nWe look forward to your enthusiastic participation in the Chinese Character Bee!
URL:https://www.bcic220.org/event/character-bee-2024/
LOCATION:Countryside Elementary School\, 205 W County Line Rd\, Barrington\, IL\, 60010\, United States
CATEGORIES:BCIC Events,BCIC Major Events,Character Bee
ATTACH;FMTTYPE=image/png:https://www.bcic220.org/wp-content/uploads/2024/02/Character-Bee-2024-2.png
END:VEVENT
BEGIN:VEVENT
DTSTART;VALUE=DATE:20240303
DTEND;VALUE=DATE:20240304
DTSTAMP:20260423T082123
CREATED:20231030T145038Z
LAST-MODIFIED:20240229T234041Z
UID:6919-1709424000-1709510399@www.bcic220.org
SUMMARY:Lunar New Year Celebration 2024
DESCRIPTION:Join Us for the Barrington Chinese Immersion Council (BCIC) Second Lunar New Year Celebration! 🐉🎉 Happy Year of the Dragon 🎉🐉 \nSave the Date: Sunday\, March 3rd \n\nSession 1: 12:00PM – 1:30PM   (Performance at 1PM)   CANCELED\nSession 2: 2:00PM – 3:30PM   (Performance at 3PM)\nSession 3: 4:00PM – 5:30PM   (Performance at 4:30PM)\n\nWhat to Expect: In addition to the opportunity for more of our wonderful community to participate\, we are honored to once again have performances from Dong Fang Performing Arts\, as well as the return of several popular activities such as Chinese face painting\, Calligraphy\, the Goldfish Race\, cultural food – and many others. \nWe have several new activities that are sure to add to the fun and cultural experience! \nSecure Your Spot: Entry Tickets are $15 per person (ages 4 and under free) and are available via RevTrak. Entry tickets include all the activities and the cultural performance.  \nPre-paid concessions: Pre-paid concession tickets are $15 for 10 tickets (Each food/drink item is 1-2 tickets). At the event\, concession tickets are $6 for 3 tickets.  \nVolunteers: These wonderful events are only possible by many hands working together. Your help is greatly appreciated! Sign up here to volunteer \nSponsor a teacher/principal: This isn’t just about festivities—it’s about fostering cultural understanding and community spirit. We invite you to consider sponsoring a teacher or staff from District 220 to join us. Your support will not only enable their involvement but also enrich the event for everyone. Visit Sponsor A Teacher to make your contribution.  \nSpecial Thanks: Thank you District 220 for graciously funding the Dong Fang performances! Thank you to the Barrington Area Community Foundation for a generous grant making it possible to celebrate at the Barrington White House!  We also thank the Barrington White House for their support hosting the event!  \nPlease note that exclusive ticket purchasing for CI families will be available until February 18th\, 11:59PM Central. Following this\, tickets will be released to extended family members\, the broader D220 Community\, and the Xilin Northwest families. Thank you for your continued support and participation in our community events. \nLet’s Come Together\, Grow Together\, and Have Fun! \n\n\n\n\n\n\n\n\n\n 
URL:https://www.bcic220.org/event/lunar-new-year-celebration-2024/
LOCATION:The Barrington’s White House\, 145 W Main St\, Barrington\, IL\, 60010\, United States
CATEGORIES:BCIC Events,BCIC Major Events,CI Community,Lunar New Year,Volunteer
ATTACH;FMTTYPE=image/jpeg:https://www.bcic220.org/wp-content/uploads/2023/10/LNY2024-1-scaled.jpg
ORGANIZER;CN="BCIC":MAILTO:bcic220@gmail.com
END:VEVENT
BEGIN:VEVENT
DTSTART;VALUE=DATE:20230916
DTEND;VALUE=DATE:20230917
DTSTAMP:20260423T082123
CREATED:20230726T161423Z
LAST-MODIFIED:20231113T173420Z
UID:6042-1694822400-1694908799@www.bcic220.org
SUMMARY:BCIC Homecoming Float Decorating
DESCRIPTION:BCIC is inviting YOU to be a part of the excitement by decorating our float. \nWith the theme “Rocking the Language Barrier\,” our float will showcase the incredible journey we’re on as Chinese immersion families. We want to celebrate not just Chinese we’re learning\, but also the connections we’re forging and the bridges we’re building. And what better way to express this unity than by adding your creative touch to our float? \nDecorating Day: Sept 16th \nDecorating Time: Sign Up for Times here \nLocation:160J Bateman Rd Barrington IL 60010 \nHere’s How You Can Get Involved: \n\nBrainstorm: Gather your friends and brainstorm ideas that bring the worlds of rock and roll and Chinese immersion together. Think of creative ways to represent Chinese language\, culture\, and the thrilling energy of rock music.\nCraft: Roll up your sleeves let’s paint the float and add some creative touches.\nJoin in on Decorating Day: Students\, families\, and staff can come together to paint our float Saturday\, Sept 16.\nSpread the Word: Encourage fellow students and families to participate. The more\, the merrier! Let’s make our float a true representation of our community.\n\n  \nSo\, grab your paintbrushes\, gather your ideas\, and let’s make our “Rocking the Language Barrier” float a highlight of this year’s homecoming parade! If you have any questions please contact bcic220@gmail.com.
URL:https://www.bcic220.org/event/homecoming-float-decorating/
LOCATION:IL
CATEGORIES:BCIC Events,Homecoming Parade,Volunteer
ATTACH;FMTTYPE=image/png:https://www.bcic220.org/wp-content/uploads/2023/08/image.png
ORGANIZER;CN="BCIC":MAILTO:bcic220@gmail.com
END:VEVENT
BEGIN:VEVENT
DTSTART;TZID=America/Chicago:20230601T170000
DTEND;TZID=America/Chicago:20230601T190000
DTSTAMP:20260423T082123
CREATED:20230908T151211Z
LAST-MODIFIED:20230908T151457Z
UID:6540-1685638800-1685646000@www.bcic220.org
SUMMARY:CI End of Year Celebration 2023
DESCRIPTION:BCIC is hosting an end of year celebration for the whole CI community and incoming Kindergarten families! RSVP Here \n\n\n\nGreater Chicago Dragon Boat Club will be there! Learn about Dragon boat racing and the festival. BCIC provides materials to make your own boats and race them! \n\n\n\nFood: BCIC provides water and 2 small snacks. Bring your own picnic or purchase Jimmy John’s (group order emailed to you). Kona Ice Truck will be there 5-7pm.
URL:https://www.bcic220.org/event/ci-end-of-year-celebration-2023/
LOCATION:Countryside Elementary School\, 205 W County Line Rd\, Barrington\, IL\, 60010\, United States
CATEGORIES:2022-23,CI Community,CI End of Year Celebration
ATTACH;FMTTYPE=image/png:https://www.bcic220.org/wp-content/uploads/2023/05/Screenshot-2023-05-19-at-12-25-05-Youre-invited-to-CI-End-of-Year-Celebration.-Tap-here-to-RSVP-Paperless-Post-Card-1.png
ORGANIZER;CN="BCIC":MAILTO:bcic220@gmail.com
END:VEVENT
END:VCALENDAR