BEGIN:VCALENDAR
VERSION:2.0
PRODID:-//Barrington Chinese Immersion Council - ECPv6.15.20//NONSGML v1.0//EN
CALSCALE:GREGORIAN
METHOD:PUBLISH
X-WR-CALNAME:Barrington Chinese Immersion Council
X-ORIGINAL-URL:https://www.bcic220.org
X-WR-CALDESC:Events for Barrington Chinese Immersion Council
REFRESH-INTERVAL;VALUE=DURATION:PT1H
X-Robots-Tag:noindex
X-PUBLISHED-TTL:PT1H
BEGIN:VTIMEZONE
TZID:America/Chicago
BEGIN:DAYLIGHT
TZOFFSETFROM:-0600
TZOFFSETTO:-0500
TZNAME:CDT
DTSTART:20220313T080000
END:DAYLIGHT
BEGIN:STANDARD
TZOFFSETFROM:-0500
TZOFFSETTO:-0600
TZNAME:CST
DTSTART:20221106T070000
END:STANDARD
BEGIN:DAYLIGHT
TZOFFSETFROM:-0600
TZOFFSETTO:-0500
TZNAME:CDT
DTSTART:20230312T080000
END:DAYLIGHT
BEGIN:STANDARD
TZOFFSETFROM:-0500
TZOFFSETTO:-0600
TZNAME:CST
DTSTART:20231105T070000
END:STANDARD
BEGIN:DAYLIGHT
TZOFFSETFROM:-0600
TZOFFSETTO:-0500
TZNAME:CDT
DTSTART:20240310T080000
END:DAYLIGHT
BEGIN:STANDARD
TZOFFSETFROM:-0500
TZOFFSETTO:-0600
TZNAME:CST
DTSTART:20241103T070000
END:STANDARD
END:VTIMEZONE
BEGIN:VEVENT
DTSTART;TZID=America/Chicago:20231209T100000
DTEND;TZID=America/Chicago:20231209T104500
DTSTAMP:20260425T182536
CREATED:20231027T135025Z
LAST-MODIFIED:20231128T052136Z
UID:6883-1702116000-1702118700@www.bcic220.org
SUMMARY:Poetry and Music at Greencastle
DESCRIPTION:All CI families are invited to enjoy a special morning of poetry and music at Greencastle of Barrington.  CI students and Greencastle residents will be performing their favorite poems in Mandarin and English.  Several CI students will be sharing their musical talents and performing Chinese songs. \nThis is a FREE event.  Light refreshments will be provided. \nPlease register to attend the event using the registration button above. \nStudents interested in reading poetry or performing music\, please see details and sign up here: www.bcic220.org/sheet/poetry-and-music-at-greencastle-poetry-readers-and-musical-performers \n8th grade and BHS students interested in serving as event volunteers\, please see details and sign up here: www.bcic220.org/sheet/poetry-and-music-at-greencastle (Service credit awarded). \nSpecial note on location and parking: Greencastle of Barrington is the large\, brown brick building at 445 E Main Street near the Barrington Metra Station.  Please enter from the back door off Klingenberg Street.  Parking is available on Klingenberg and other side streets or in the North Metra lot.  Please do not park in the Greencastle parking lot.  It is reserved for the elderly residents and staff. \n 
URL:https://www.bcic220.org/event/poetry-and-music-at-greencastle/
LOCATION:Greencastle of Barrington\, 445 E Main St\, Barrington\, IL\, 60010\, United States
CATEGORIES:BCIC Events,Greencastle
ATTACH;FMTTYPE=image/png:https://www.bcic220.org/wp-content/uploads/2023/10/ChinesePoetryandMusic-painted.png
ORGANIZER;CN="BCIC":MAILTO:bcic220@gmail.com
END:VEVENT
END:VCALENDAR