BEGIN:VCALENDAR
VERSION:2.0
PRODID:-//Barrington Chinese Immersion Council - ECPv6.15.20//NONSGML v1.0//EN
CALSCALE:GREGORIAN
METHOD:PUBLISH
X-WR-CALNAME:Barrington Chinese Immersion Council
X-ORIGINAL-URL:https://www.bcic220.org
X-WR-CALDESC:Events for Barrington Chinese Immersion Council
REFRESH-INTERVAL;VALUE=DURATION:PT1H
X-Robots-Tag:noindex
X-PUBLISHED-TTL:PT1H
BEGIN:VTIMEZONE
TZID:America/Chicago
BEGIN:DAYLIGHT
TZOFFSETFROM:-0600
TZOFFSETTO:-0500
TZNAME:CDT
DTSTART:20230312T080000
END:DAYLIGHT
BEGIN:STANDARD
TZOFFSETFROM:-0500
TZOFFSETTO:-0600
TZNAME:CST
DTSTART:20231105T070000
END:STANDARD
BEGIN:DAYLIGHT
TZOFFSETFROM:-0600
TZOFFSETTO:-0500
TZNAME:CDT
DTSTART:20240310T080000
END:DAYLIGHT
BEGIN:STANDARD
TZOFFSETFROM:-0500
TZOFFSETTO:-0600
TZNAME:CST
DTSTART:20241103T070000
END:STANDARD
BEGIN:DAYLIGHT
TZOFFSETFROM:-0600
TZOFFSETTO:-0500
TZNAME:CDT
DTSTART:20250309T080000
END:DAYLIGHT
BEGIN:STANDARD
TZOFFSETFROM:-0500
TZOFFSETTO:-0600
TZNAME:CST
DTSTART:20251102T070000
END:STANDARD
END:VTIMEZONE
BEGIN:VEVENT
DTSTART;TZID=America/Chicago:20240328T160000
DTEND;TZID=America/Chicago:20240328T170000
DTSTAMP:20260425T125849
CREATED:20240313T170937Z
LAST-MODIFIED:20240323T023714Z
UID:7734-1711641600-1711645200@www.bcic220.org
SUMMARY:Chinese-inspired Painting at Greencastle
DESCRIPTION:Greencastle of Barrington is hosting a Chinese-inspired painting activity on Thursday\, March 28\, 2024 at 4:00pm. If you’re in town for spring break and your student(s) enjoy arts and crafts\, please join us. \nFREE event with all supplies provided by Greencastle. This is a smaller group activity and space is limited. The class will last approximately 1 hour. \nNote: a parent or caregiver must accompany elementary students. Suggested age range is 2nd grade and up. Younger siblings are welcome with parent supervision. \nGreencastle is the large brown apartment building at 445 E Main Street in Barrington. However\, please use the back entrance of the building off Klingenburg Ln. Parking is available on the street or in the North Metra lot.  The parking lot is reserved for residents. \nWe will have volunteers at the back door\, as well as the right side (east side) of the building in the garden area to welcome you. \nThank you! We hope you can join us!
URL:https://www.bcic220.org/event/chinese-inspired-painting-at-greencastle/
LOCATION:Greencastle of Barrington\, 445 E Main St\, Barrington\, IL\, 60010\, United States
CATEGORIES:BCIC Events,Greencastle
ATTACH;FMTTYPE=image/png:https://www.bcic220.org/wp-content/uploads/2024/03/chinese-fan.png
END:VEVENT
END:VCALENDAR