BEGIN:VCALENDAR
VERSION:2.0
PRODID:-//Barrington Chinese Immersion Council - ECPv6.15.20//NONSGML v1.0//EN
CALSCALE:GREGORIAN
METHOD:PUBLISH
X-ORIGINAL-URL:https://www.bcic220.org
X-WR-CALDESC:Events for Barrington Chinese Immersion Council
REFRESH-INTERVAL;VALUE=DURATION:PT1H
X-Robots-Tag:noindex
X-PUBLISHED-TTL:PT1H
BEGIN:VTIMEZONE
TZID:America/Chicago
BEGIN:DAYLIGHT
TZOFFSETFROM:-0600
TZOFFSETTO:-0500
TZNAME:CDT
DTSTART:20220313T080000
END:DAYLIGHT
BEGIN:STANDARD
TZOFFSETFROM:-0500
TZOFFSETTO:-0600
TZNAME:CST
DTSTART:20221106T070000
END:STANDARD
BEGIN:DAYLIGHT
TZOFFSETFROM:-0600
TZOFFSETTO:-0500
TZNAME:CDT
DTSTART:20230312T080000
END:DAYLIGHT
BEGIN:STANDARD
TZOFFSETFROM:-0500
TZOFFSETTO:-0600
TZNAME:CST
DTSTART:20231105T070000
END:STANDARD
BEGIN:DAYLIGHT
TZOFFSETFROM:-0600
TZOFFSETTO:-0500
TZNAME:CDT
DTSTART:20240310T080000
END:DAYLIGHT
BEGIN:STANDARD
TZOFFSETFROM:-0500
TZOFFSETTO:-0600
TZNAME:CST
DTSTART:20241103T070000
END:STANDARD
BEGIN:DAYLIGHT
TZOFFSETFROM:-0600
TZOFFSETTO:-0500
TZNAME:CDT
DTSTART:20250309T080000
END:DAYLIGHT
BEGIN:STANDARD
TZOFFSETFROM:-0500
TZOFFSETTO:-0600
TZNAME:CST
DTSTART:20251102T070000
END:STANDARD
END:VTIMEZONE
BEGIN:VEVENT
DTSTART;TZID=America/Chicago:20240906T160000
DTEND;TZID=America/Chicago:20240906T180000
DTSTAMP:20260423T080128
CREATED:20230814T144107Z
LAST-MODIFIED:20241009T225842Z
UID:6014-1725638400-1725645600@www.bcic220.org
SUMMARY:CI Kindergarten Social
DESCRIPTION: Join Us for a Sweet Treat at Citizen’s Park! \nHey there\, CI Kindergarten families! \nBCIC believes that strong bonds among families are the foundation of a thriving community. That’s why we’re excited to invite you all to a get-together from 4:00 to 6:00 pm at Citizen’s Park Playground for CI Kindergarten Families. \nRegister to ensure we have enough treats for the kids. \nLet’s make this a sweet start to lasting friendships. \nDate: September 6th\nTime: 4:00 pm – 6:00 pm\nLocation: Citizen’s Park \n  \n 
URL:https://www.bcic220.org/event/ci-kindergarten-social/
LOCATION:Citizen’s Park\, 511 N Lake Zurich Rd\, Barrington\, IL\, 60010\, United States
CATEGORIES:2023-24,BCIC Events,CI Community,Past BCIC Events
ORGANIZER;CN="BCIC":MAILTO:bcic220@gmail.com
END:VEVENT
BEGIN:VEVENT
DTSTART;TZID=America/Chicago:20230819T120000
DTEND;TZID=America/Chicago:20230819T160000
DTSTAMP:20260423T080128
CREATED:20230724T231231Z
LAST-MODIFIED:20230907T162755Z
UID:5845-1692446400-1692460800@www.bcic220.org
SUMMARY:BCIC Booth @ Family Expo 2023
DESCRIPTION:Register to Volunteer at the BCIC booth. \nHelp spread the word about the CI program we know and love! Assist families visiting the BCIC booth with Chinese Stamps and/or Buddha Boards to write Chinese Characters.\n\n\n\nEvent Description: Walk\, bike\, run or drive over to Citizens Park in Barrington on Saturday\, August 19 for the annual BACC Family Expo from noon to 4:00 pm! Enjoy a day of kids activities\, giveaways\, live music\, entertainment and more.  Take photos with our Superheroes and mini horses.  Visit with therapy pets.  Grab a snack and some refreshments – all while learning more about the resources available here in the Barrington area! Many local businesses and community organizations will have booths offering activities and demonstrations.  The event is open to the public and parking is FREE!
URL:https://www.bcic220.org/event/bcic-booth-family-expo-2023/
LOCATION:Citizen’s Park\, 511 N Lake Zurich Rd\, Barrington\, IL\, 60010\, United States
CATEGORIES:2023-24
ATTACH;FMTTYPE=image/jpeg:https://www.bcic220.org/wp-content/uploads/2023/07/2023-Family-Expo-Promotional-Flyer-.jpg
ORGANIZER;CN="Barrington Area Camber of Commerce":MAILTO:email@barringtonchamber.com
END:VEVENT
BEGIN:VEVENT
DTSTART;TZID=America/Chicago:20230601T170000
DTEND;TZID=America/Chicago:20230601T190000
DTSTAMP:20260423T080128
CREATED:20230908T151211Z
LAST-MODIFIED:20230908T151457Z
UID:6540-1685638800-1685646000@www.bcic220.org
SUMMARY:CI End of Year Celebration 2023
DESCRIPTION:BCIC is hosting an end of year celebration for the whole CI community and incoming Kindergarten families! RSVP Here \n\n\n\nGreater Chicago Dragon Boat Club will be there! Learn about Dragon boat racing and the festival. BCIC provides materials to make your own boats and race them! \n\n\n\nFood: BCIC provides water and 2 small snacks. Bring your own picnic or purchase Jimmy John’s (group order emailed to you). Kona Ice Truck will be there 5-7pm.
URL:https://www.bcic220.org/event/ci-end-of-year-celebration-2023/
LOCATION:Countryside Elementary School\, 205 W County Line Rd\, Barrington\, IL\, 60010\, United States
CATEGORIES:2022-23,CI Community,CI End of Year Celebration
ATTACH;FMTTYPE=image/png:https://www.bcic220.org/wp-content/uploads/2023/05/Screenshot-2023-05-19-at-12-25-05-Youre-invited-to-CI-End-of-Year-Celebration.-Tap-here-to-RSVP-Paperless-Post-Card-1.png
ORGANIZER;CN="BCIC":MAILTO:bcic220@gmail.com
END:VEVENT
END:VCALENDAR