BEGIN:VCALENDAR
VERSION:2.0
PRODID:-//Barrington Chinese Immersion Council - ECPv6.15.20//NONSGML v1.0//EN
CALSCALE:GREGORIAN
METHOD:PUBLISH
X-ORIGINAL-URL:https://www.bcic220.org
X-WR-CALDESC:Events for Barrington Chinese Immersion Council
REFRESH-INTERVAL;VALUE=DURATION:PT1H
X-Robots-Tag:noindex
X-PUBLISHED-TTL:PT1H
BEGIN:VTIMEZONE
TZID:America/Chicago
BEGIN:DAYLIGHT
TZOFFSETFROM:-0600
TZOFFSETTO:-0500
TZNAME:CDT
DTSTART:20230312T080000
END:DAYLIGHT
BEGIN:STANDARD
TZOFFSETFROM:-0500
TZOFFSETTO:-0600
TZNAME:CST
DTSTART:20231105T070000
END:STANDARD
BEGIN:DAYLIGHT
TZOFFSETFROM:-0600
TZOFFSETTO:-0500
TZNAME:CDT
DTSTART:20240310T080000
END:DAYLIGHT
BEGIN:STANDARD
TZOFFSETFROM:-0500
TZOFFSETTO:-0600
TZNAME:CST
DTSTART:20241103T070000
END:STANDARD
BEGIN:DAYLIGHT
TZOFFSETFROM:-0600
TZOFFSETTO:-0500
TZNAME:CDT
DTSTART:20250309T080000
END:DAYLIGHT
BEGIN:STANDARD
TZOFFSETFROM:-0500
TZOFFSETTO:-0600
TZNAME:CST
DTSTART:20251102T070000
END:STANDARD
BEGIN:DAYLIGHT
TZOFFSETFROM:-0600
TZOFFSETTO:-0500
TZNAME:CDT
DTSTART:20260308T080000
END:DAYLIGHT
BEGIN:STANDARD
TZOFFSETFROM:-0500
TZOFFSETTO:-0600
TZNAME:CST
DTSTART:20261101T070000
END:STANDARD
END:VTIMEZONE
BEGIN:VEVENT
DTSTART;TZID=America/Chicago:20250611T190000
DTEND;TZID=America/Chicago:20250611T203000
DTSTAMP:20260423T082618
CREATED:20250528T124407Z
LAST-MODIFIED:20250818T213057Z
UID:8829-1749668400-1749673800@www.bcic220.org
SUMMARY:BCIC - BHS Student Volunteer Appreciation Event
DESCRIPTION:BCIC extends its warmest thanks to all the BHS volunteer who helped make this years’ language and cultural enrichment programs a success! \nBCIC hosting its first Student Volunteer Appreciation on Wednesday\, June 11\, from 7:00-to-8:30pm at the Barrington Area Library – Zimmerman room!  BHS Students who volunteered for at least one BCIC event over the 2024-2025 school year are invited. \nWe’ll have snacks\, a few games with a chance to win fun prizes\, a short presentation from the BCIC Board and time to catch up with friends. Please RSVP by the end of the day Monday\, June 9 by signing up here: BCIC Student Volunteer Appreciation Event – BHS students \nIf you have any questions\, please email michellechase@bcic220.org \n 
URL:https://www.bcic220.org/event/8829/
LOCATION:Barrington Area Library\, 505 N. Northwest Highway\, Barrington\, IL\, 60010
CATEGORIES:BCIC Events,Student Success
ORGANIZER;CN="BCIC":MAILTO:bcic220@gmail.com
END:VEVENT
BEGIN:VEVENT
DTSTART;TZID=America/Chicago:20250402T183000
DTEND;TZID=America/Chicago:20250402T200000
DTSTAMP:20260423T082618
CREATED:20240229T224324Z
LAST-MODIFIED:20250217T184125Z
UID:7645-1743618600-1743624000@www.bcic220.org
SUMMARY:CI Student Panel for Incoming Sixth Graders
DESCRIPTION:All current 5th graders and their families are invited to join BCIC for a panel discussion about the transition to middle school in the media center (library) of Station Middle School. After the panel discussion\, there will be a breakout for the current 5th graders to informally chat with the current middle school students and/or teachers. At the same time\, there will be a breakout for the current 5th grade parents to informally chat with current middle school parents and/or teachers. \nThis is a FREE event\, but registration is required. You may submit as many questions to the panel ahead of time via this same registration form. Questions submitted on this registration will be asked annonymously during the event. You can also directly ask questions at the event to our CI middle school students serving on the panel\, Mrs. Weerts & Mr. Yu (our CI middle school teachers)\, parents of current/past middle schoolers\, and BCIC reps. Students must be accompanied by an adult. \n 
URL:https://www.bcic220.org/event/student-panel-for-incoming-sixth-graders/
LOCATION:Station Middle School\, 215 S Eastern Ave\, Barrington\, IL\, 60010\, United States
CATEGORIES:BCIC Events,Student Success,Transition Panel
ATTACH;FMTTYPE=image/png:https://www.bcic220.org/wp-content/uploads/2024/02/CI-Middle-School-Panel-1-1.png
ORGANIZER;CN="BCIC":MAILTO:bcic220@gmail.com
END:VEVENT
BEGIN:VEVENT
DTSTART;TZID=America/Chicago:20250401T183000
DTEND;TZID=America/Chicago:20250401T200000
DTSTAMP:20260423T082618
CREATED:20240307T210015Z
LAST-MODIFIED:20250217T184212Z
UID:7718-1743532200-1743537600@www.bcic220.org
SUMMARY:CI Student Panel for Incoming Ninth Graders
DESCRIPTION:All current 8th graders and their families are invited to join BCIC for a panel discussion about the transition to high school in the Upper Atrium of Barrington High School. After the panel discussion\, there will be a breakout for the current 8th graders to informally chat with the current high school students and/or teachers. At the same time\, there will be a breakout for the current 8th grade parents to informally chat with current high school parents and/or teachers. \nThis is a FREE event\, but registration is required. You may submit as many questions to the panel ahead of time via this same registration form. Questions submitted on this registration will be asked annonymously during the event. You can also directly ask questions at the event to our CI high school students serving on the panel\, Mrs. Yang (one of our CI high school teachers)\, parents of current/past high schoolers\, and BCIC reps.
URL:https://www.bcic220.org/event/student-panel-for-incoming-ninth-graders/
LOCATION:Barrington High School\, 616 West Main Street\, Barrington\, 60010\, United States
CATEGORIES:BCIC Events,Career Exploration,Student Success
ATTACH;FMTTYPE=image/png:https://www.bcic220.org/wp-content/uploads/2024/03/CI-High-School-Panel.png
ORGANIZER;CN="BCIC":MAILTO:bcic220@gmail.com
END:VEVENT
BEGIN:VEVENT
DTSTART;TZID=America/Chicago:20250114T190000
DTEND;TZID=America/Chicago:20250114T200000
DTSTAMP:20260423T082618
CREATED:20250107T235123Z
LAST-MODIFIED:20250317T012720Z
UID:8438-1736881200-1736884800@www.bcic220.org
SUMMARY:College Exploration Webinar
DESCRIPTION:College Exploration Panel – Tuesday\, January 14\, from 7-8pm \nBCIC is so excited to offer this first College Exploration panel! \nPlease join BCIC and a panel of recent CI BHS graduates to learn more about the first year of college\, what it is like to study Chinese language and culture at the college level\, and tips for your own college searches. \nWe hope you will attend and bring your questions so we can make the webinar more interactive and relevant to you and your college interests. \nWe are excited to welcome: \nSahana: Computer Science and Data Science\, University of Wisconsin-Madison\, plans to take classes in Chinese\, considering minor\, Chinese Language and Culture Club Board Member \nCindy: Political Science and International Relations\, American University\, choosing a focus in East Asia and Chinese language \nJeremy: Accountancy + Data Science\, University of Illinois Urbana-Champaign\, plans to continue studying Chinese for business degree\, exploring UIUC’s Chinese Club \nPlease register at bcic220.org and we will send a Zoom link ahead of the webinar. Events from January 9 – February 2BCIC Events
URL:https://www.bcic220.org/event/college-exploration-webinar/
LOCATION:Virtual
CATEGORIES:BCIC Events,Career Exploration,Student Success
ATTACH;FMTTYPE=image/jpeg:https://www.bcic220.org/wp-content/uploads/2025/01/college-image.jpg
END:VEVENT
BEGIN:VEVENT
DTSTART;TZID=America/Chicago:20240510T090000
DTEND;TZID=America/Chicago:20240510T100000
DTSTAMP:20260423T082618
CREATED:20240415T171411Z
LAST-MODIFIED:20240502T193711Z
UID:7888-1715331600-1715335200@www.bcic220.org
SUMMARY:Buddy Day for Incoming Kindergartners
DESCRIPTION:Click here to RSVP for Buddy Day
URL:https://www.bcic220.org/event/buddy-for-incoming-kindergartners/
LOCATION:Countryside Elementary School\, 205 W County Line Rd\, Barrington\, IL\, 60010\, United States
CATEGORIES:BCIC Events,Student Success
ATTACH;FMTTYPE=application/pdf:https://www.bcic220.org/wp-content/uploads/2024/04/2023-2024-Kindergarten-Buddy-Day.pdf
END:VEVENT
END:VCALENDAR