BEGIN:VCALENDAR
VERSION:2.0
PRODID:-//Barrington Chinese Immersion Council - ECPv6.15.20//NONSGML v1.0//EN
CALSCALE:GREGORIAN
METHOD:PUBLISH
X-WR-CALNAME:Barrington Chinese Immersion Council
X-ORIGINAL-URL:https://www.bcic220.org
X-WR-CALDESC:Events for Barrington Chinese Immersion Council
REFRESH-INTERVAL;VALUE=DURATION:PT1H
X-Robots-Tag:noindex
X-PUBLISHED-TTL:PT1H
BEGIN:VTIMEZONE
TZID:America/Chicago
BEGIN:DAYLIGHT
TZOFFSETFROM:-0600
TZOFFSETTO:-0500
TZNAME:CDT
DTSTART:20240310T080000
END:DAYLIGHT
BEGIN:STANDARD
TZOFFSETFROM:-0500
TZOFFSETTO:-0600
TZNAME:CST
DTSTART:20241103T070000
END:STANDARD
BEGIN:DAYLIGHT
TZOFFSETFROM:-0600
TZOFFSETTO:-0500
TZNAME:CDT
DTSTART:20250309T080000
END:DAYLIGHT
BEGIN:STANDARD
TZOFFSETFROM:-0500
TZOFFSETTO:-0600
TZNAME:CST
DTSTART:20251102T070000
END:STANDARD
BEGIN:DAYLIGHT
TZOFFSETFROM:-0600
TZOFFSETTO:-0500
TZNAME:CDT
DTSTART:20260308T080000
END:DAYLIGHT
BEGIN:STANDARD
TZOFFSETFROM:-0500
TZOFFSETTO:-0600
TZNAME:CST
DTSTART:20261101T070000
END:STANDARD
END:VTIMEZONE
BEGIN:VEVENT
DTSTART;TZID=America/Chicago:20250909T183000
DTEND;TZID=America/Chicago:20250909T193000
DTSTAMP:20260423T144333
CREATED:20250818T210941Z
LAST-MODIFIED:20250906T032617Z
UID:8891-1757442600-1757446200@www.bcic220.org
SUMMARY:BCIC Board Meeting - Open to all CI Parents/Guardians (In Person or Virtually)
DESCRIPTION:Join our BCIC Open Board Meeting in person or virtually. Learn about BCIC and hear how we are supporting the CI program through initiatives and events. \n🗓️ Date: Tuesday\, September 9th \n🕚 Time: 6:30PM-7:30PM \n📍 Location: Media Center (library) of Station Middle School OR Virtual – Register to receive link \n 
URL:https://www.bcic220.org/event/bcic-board-meeting-september/
LOCATION:Station Middle School\, 215 S Eastern Ave\, Barrington\, IL\, 60010\, United States
CATEGORIES:BCIC Board Meeting
ORGANIZER;CN="BCIC":MAILTO:bcic220@gmail.com
END:VEVENT
BEGIN:VEVENT
DTSTART;TZID=America/Chicago:20250914T130000
DTEND;TZID=America/Chicago:20250914T160000
DTSTAMP:20260423T144333
CREATED:20250911T052211Z
LAST-MODIFIED:20250917T193106Z
UID:9114-1757854800-1757865600@www.bcic220.org
SUMMARY:Homecoming Parade Float Decorating 2025
DESCRIPTION:BCIC is inviting YOU to be a part of the excitement by decorating our float. \nJoin us for some fun decorating our Homecoming parade float with the theme “Miami Nights Meets China Nights”. Families and teens welcome to help us make this a successful Homecoming parade. \n**Please wear clothes that can get paint on them** \nDecorating Day: Sept 16th \nDecorating Time: 1 – 4pm : Please register for event above so we know how many to expect \nLocation: 21201 N. 23rd Street\, Barrington\, IL 60010 \nSpread the Word: Encourage fellow students and families to participate. The more\, the merrier! Let’s make our float a true representation of our community. \nIf you have any questions please contact bcic220@gmail.com.
URL:https://www.bcic220.org/event/homecoming-parade-float-decorating-2025/
LOCATION:Float Decorating\, 21201 N. 23rd Street\, Barrington\, IL\, 60010\, United States
ATTACH;FMTTYPE=image/png:https://www.bcic220.org/wp-content/uploads/2025/09/IMG_2318.png
ORGANIZER;CN="BCIC":MAILTO:bcic220@gmail.com
END:VEVENT
BEGIN:VEVENT
DTSTART;TZID=America/Chicago:20250927T093000
DTEND;TZID=America/Chicago:20250927T120000
DTSTAMP:20260423T144333
CREATED:20250820T045441Z
LAST-MODIFIED:20250920T171857Z
UID:8923-1758965400-1758974400@www.bcic220.org
SUMMARY:Homecoming Parade - 2025
DESCRIPTION:BCIC has a float in the Barrington High School Homecoming Parade! Register to join us! \nUnder the Stars is the theme! \nCI Float Slogan is “Miami Nights Meets China Nights”\nSign Up Here to decorate the float Sat Sept 14th\nWear your traditional Chinese clothes or BCIC spiritwear. Bring candy if you’d like to pass it out.\n\n\nNEW PARADE ROUTE AND STARTING PLACE DUE TO CONSTRUCTION ON RT. 14\n\n\nGeneral event details: Arrive at the St. Matthew Lutheran Church\, 720 Dundee Avenue\, 9/23 at 9:30am (cannot park on site so plan accordingly). No candy can be thrown from the float during the parade\, but you may hand out your own candy. Ride/Walk in the parade to the BHS high school.\n**Please note float riding priority is given to the young students and disabled** \n**Any participants in 3rd grade or younger MUST be supervised – No Drop Offs** \n\nMiddle or high school age students interested in volunteering to carry the dragon or assist with the younger CI kids during parade click here.\n  \n\nFor other BCIC events please visit our event site at www.bcic220.org/events or our facebook page at BCIC Facebook Group
URL:https://www.bcic220.org/event/homecoming-parade-2025/
LOCATION:St. Matthew Lutheran Church\, 720 Dundee Avenue\, Barrington\, IL\, 60010\, United States
CATEGORIES:BCIC Major Events,Homecoming Parade
ATTACH;FMTTYPE=image/jpeg:https://www.bcic220.org/wp-content/uploads/2025/09/homecoming.jpg
END:VEVENT
END:VCALENDAR