BEGIN:VCALENDAR
VERSION:2.0
PRODID:-//Barrington Chinese Immersion Council - ECPv6.15.20//NONSGML v1.0//EN
CALSCALE:GREGORIAN
METHOD:PUBLISH
X-WR-CALNAME:Barrington Chinese Immersion Council
X-ORIGINAL-URL:https://www.bcic220.org
X-WR-CALDESC:Events for Barrington Chinese Immersion Council
REFRESH-INTERVAL;VALUE=DURATION:PT1H
X-Robots-Tag:noindex
X-PUBLISHED-TTL:PT1H
BEGIN:VTIMEZONE
TZID:America/Chicago
BEGIN:DAYLIGHT
TZOFFSETFROM:-0600
TZOFFSETTO:-0500
TZNAME:CDT
DTSTART:20240310T080000
END:DAYLIGHT
BEGIN:STANDARD
TZOFFSETFROM:-0500
TZOFFSETTO:-0600
TZNAME:CST
DTSTART:20241103T070000
END:STANDARD
BEGIN:DAYLIGHT
TZOFFSETFROM:-0600
TZOFFSETTO:-0500
TZNAME:CDT
DTSTART:20250309T080000
END:DAYLIGHT
BEGIN:STANDARD
TZOFFSETFROM:-0500
TZOFFSETTO:-0600
TZNAME:CST
DTSTART:20251102T070000
END:STANDARD
BEGIN:DAYLIGHT
TZOFFSETFROM:-0600
TZOFFSETTO:-0500
TZNAME:CDT
DTSTART:20260308T080000
END:DAYLIGHT
BEGIN:STANDARD
TZOFFSETFROM:-0500
TZOFFSETTO:-0600
TZNAME:CST
DTSTART:20261101T070000
END:STANDARD
END:VTIMEZONE
BEGIN:VEVENT
DTSTART;TZID=America/Chicago:20251005T130000
DTEND;TZID=America/Chicago:20251005T160000
DTSTAMP:20260423T123537
CREATED:20250902T152100Z
LAST-MODIFIED:20250912T234415Z
UID:9053-1759669200-1759680000@www.bcic220.org
SUMMARY:Fall Fest - Village of North Barrington
DESCRIPTION:BCIC will have a booth at North Barrington Fall Fest on Sunday\, October 5th from 1-4pm. \nWe are looking for volunteers to help kids with crafts and share info about the CI program which will be at North Barrington next year. Please register above. \nVolunteer Shift 1 – 12:30-2:00 \nVolunteer Shift 2 – 1:30 -3:00 \nVolunteer Shift 3 – 2:30-4:00
URL:https://www.bcic220.org/event/village-of-north-barrington-fall-fest/
LOCATION:Eton Park\, 536 Eton Drive\, North Barrington\, IL\, 60010\, United States
CATEGORIES:BCIC Booth
ORGANIZER;CN="BCIC":MAILTO:bcic220@gmail.com
END:VEVENT
BEGIN:VEVENT
DTSTART;TZID=America/Chicago:20251009T183000
DTEND;TZID=America/Chicago:20251009T203000
DTSTAMP:20260423T123537
CREATED:20250820T023656Z
LAST-MODIFIED:20250820T025202Z
UID:8901-1760034600-1760041800@www.bcic220.org
SUMMARY:BCIC Board Meeting
DESCRIPTION:🗓️ Date: Thursday\, October 9th \n🕚 Time: 6:30PM-8:30PM \n📍 Location: Barrington Area Library Zimmerman Room \n  \nThe Barrington Area Library provides Meeting Room space as a community service. The Barrington Area Library neither sponsors nor endorses this event or the presenting individuals or organizations.
URL:https://www.bcic220.org/event/bcic-board-meeting-october/
LOCATION:Barrington Area Library\, 505 N. Northwest Highway\, Barrington\, IL\, 60010
CATEGORIES:BCIC Board Meeting
ORGANIZER;CN="BCIC":MAILTO:bcic220@gmail.com
END:VEVENT
BEGIN:VEVENT
DTSTART;TZID=America/Chicago:20251010T170000
DTEND;TZID=America/Chicago:20251010T190000
DTSTAMP:20260423T123537
CREATED:20250912T194232Z
LAST-MODIFIED:20251009T013327Z
UID:9129-1760115600-1760122800@www.bcic220.org
SUMMARY:Mid Autumn (Moon) Festival 2025
DESCRIPTION:*** Registration in advance is required for this event *** \nPlease join BCIC on Friday\, October 10th from 5-7pm in the Countryside Elementary School Multi-Purpose Room for our Mid Autumn (Moon) Festival event.
URL:https://www.bcic220.org/event/mid-autumn-moon-festival/
LOCATION:Countryside Elementary School\, 205 W County Line Rd\, Barrington\, IL\, 60010\, United States
CATEGORIES:Chinese Holidays
ATTACH;FMTTYPE=image/png:https://www.bcic220.org/wp-content/uploads/2025/10/mid_autumn_2025.png
ORGANIZER;CN="BCIC":MAILTO:bcic220@gmail.com
END:VEVENT
END:VCALENDAR