BEGIN:VCALENDAR
VERSION:2.0
PRODID:-//Barrington Chinese Immersion Council - ECPv6.15.20//NONSGML v1.0//EN
CALSCALE:GREGORIAN
METHOD:PUBLISH
X-WR-CALNAME:Barrington Chinese Immersion Council
X-ORIGINAL-URL:https://www.bcic220.org
X-WR-CALDESC:Events for Barrington Chinese Immersion Council
REFRESH-INTERVAL;VALUE=DURATION:PT1H
X-Robots-Tag:noindex
X-PUBLISHED-TTL:PT1H
BEGIN:VTIMEZONE
TZID:America/Chicago
BEGIN:DAYLIGHT
TZOFFSETFROM:-0600
TZOFFSETTO:-0500
TZNAME:CDT
DTSTART:20240310T080000
END:DAYLIGHT
BEGIN:STANDARD
TZOFFSETFROM:-0500
TZOFFSETTO:-0600
TZNAME:CST
DTSTART:20241103T070000
END:STANDARD
BEGIN:DAYLIGHT
TZOFFSETFROM:-0600
TZOFFSETTO:-0500
TZNAME:CDT
DTSTART:20250309T080000
END:DAYLIGHT
BEGIN:STANDARD
TZOFFSETFROM:-0500
TZOFFSETTO:-0600
TZNAME:CST
DTSTART:20251102T070000
END:STANDARD
BEGIN:DAYLIGHT
TZOFFSETFROM:-0600
TZOFFSETTO:-0500
TZNAME:CDT
DTSTART:20260308T080000
END:DAYLIGHT
BEGIN:STANDARD
TZOFFSETFROM:-0500
TZOFFSETTO:-0600
TZNAME:CST
DTSTART:20261101T070000
END:STANDARD
END:VTIMEZONE
BEGIN:VEVENT
DTSTART;TZID=America/Chicago:20250508T183000
DTEND;TZID=America/Chicago:20250508T193000
DTSTAMP:20260424T012419
CREATED:20231031T164412Z
LAST-MODIFIED:20250412T031134Z
UID:6939-1746729000-1746732600@www.bcic220.org
SUMMARY:BCIC Open Board Meeting
DESCRIPTION:Join our BCIC Open Board Meeting! Hear how we are supporting the CI program through initiatives\, events\, etc. \n🗓️ Date: Thursday\, May 8th \n🕚 Time: 6:30PM-7:30PM \n📍 Location: Barrington Area Library Zimmerman Room \n  \nThe Barrington Area Library provides Meeting Room space as a community service. The Barrington Area Library neither sponsors nor endorses this event or the presenting individuals or organizations.
URL:https://www.bcic220.org/event/bcic-open-board-meeting-2/
LOCATION:Barrington Area Library\, 505 N. Northwest Highway\, Barrington\, IL\, 60010
CATEGORIES:BCIC Board Meeting,BCIC Events
ATTACH;FMTTYPE=image/png:https://www.bcic220.org/wp-content/uploads/2023/10/BCIC-Open-Board-Meeting-Template-copy-2-2.png
ORGANIZER;CN="BCIC":MAILTO:bcic220@gmail.com
END:VEVENT
END:VCALENDAR